0.00001299999985
0.00000000000000
0.00000000000000
-0.00000999999975
-119.28374902998534
35.53532052997474
