0.00001299999985
0.00000000000000
0.00000000000000
-0.00000999999975
-119.28390910998534
35.53577128997474
