0.00001299999985
0.00000000000000
0.00000000000000
-0.00000999999975
-119.28591899998536
35.53386314997474
