0.00001299999985
0.00000000000000
0.00000000000000
-0.00000999999975
-119.28384806998535
35.53599434997474
