0.00001299999985
0.00000000000000
0.00000000000000
-0.00000999999975
-119.28372704998534
35.53580615997474
