0.00001299999985
0.00000000000000
0.00000000000000
-0.00000999999975
-119.28515834998535
35.53370598997474
