0.00001299999985
0.00000000000000
0.00000000000000
-0.00000999999975
-119.29296451998535
35.52637950997474
