0.00001299999985
0.00000000000000
0.00000000000000
-0.00000999999975
-119.29292046998535
35.52639219997474
