0.00001299999985
0.00000000000000
0.00000000000000
-0.00000999999975
-119.29282399998534
35.52635097997474
