0.00001299999985
0.00000000000000
0.00000000000000
-0.00000999999975
-119.96958687998534
36.08128888997474
