0.00001299999985
0.00000000000000
0.00000000000000
-0.00000999999975
-119.96951551998535
36.08126440997474
