0.00001299999985
0.00000000000000
0.00000000000000
-0.00000999999975
-119.96937587998535
36.08103143997474
