0.00001299999985
0.00000000000000
0.00000000000000
-0.00000999999975
-119.96937681998534
36.08102762997473
