0.00001299999985
0.00000000000000
0.00000000000000
-0.00000999999975
-119.93382966998534
36.21181898997474
