0.00001299999985
0.00000000000000
0.00000000000000
-0.00000999999975
-119.94283892998534
36.21196010997474
