0.00001299999985
0.00000000000000
0.00000000000000
-0.00000999999975
-119.94283453998536
36.21196298997474
