0.00001299999985
0.00000000000000
0.00000000000000
-0.00000999999975
-119.95159785998536
36.21187320997474
