0.00001299999985
0.00000000000000
0.00000000000000
-0.00000999999975
-119.95177985998535
36.21200320997474
