0.00001299999985
0.00000000000000
0.00000000000000
-0.00000999999975
-119.96084889998535
36.22784267997474
