0.00001299999985
0.00000000000000
0.00000000000000
-0.00000999999975
-119.93393637998535
36.21949877997474
