0.00001299999985
0.00000000000000
0.00000000000000
-0.00000999999975
-119.93392611001626
36.21934020001516
