0.00001299999985
0.00000000000000
0.00000000000000
-0.00000999999975
-119.93388808998535
36.21922805997474
