0.00001299999985
0.00000000000000
0.00000000000000
-0.00000999999975
-119.93379869998535
36.22767124997474
