0.00001299999985
0.00000000000000
0.00000000000000
-0.00000999999975
-119.93378910998536
36.22767123997474
