0.00001299999985
0.00000000000000
0.00000000000000
-0.00000999999975
-119.93379752998536
36.22767549997474
