0.00001299999985
0.00000000000000
0.00000000000000
-0.00000999999975
-119.92490786998535
36.21915746997474
