0.00001299999985
0.00000000000000
0.00000000000000
-0.00000999999975
-119.92491887998536
36.21915043997474
