0.00001299999985
0.00000000000000
0.00000000000000
-0.00000999999975
-119.93378390998535
36.23518928997474
