0.00001299999985
0.00000000000000
0.00000000000000
-0.00000999999975
-119.93357170998534
36.23498177997474
