0.00001299999985
0.00000000000000
0.00000000000000
-0.00000999999975
-119.96080131998535
36.23523729997474
