0.00001299999985
0.00000000000000
0.00000000000000
-0.00000999999975
-119.96063477998536
36.23514271997474
