0.00001299999985
0.00000000000000
0.00000000000000
-0.00000999999975
-119.95205487998535
36.23522340997474
