0.00001299999985
0.00000000000000
0.00000000000000
-0.00000999999975
-119.95185945998534
36.23526352997474
