0.00001299999985
0.00000000000000
0.00000000000000
-0.00000999999975
-119.95185987998535
36.23526340997474
