0.00001299999985
0.00000000000000
0.00000000000000
-0.00000999999975
-119.95186622998536
36.23526509997474
