0.00001299999985
0.00000000000000
0.00000000000000
-0.00000999999975
-119.96089130998534
36.24973880997474
