0.00001299999985
0.00000000000000
0.00000000000000
-0.00000999999975
-119.96089519998534
36.24947329997474
