0.00001299999985
0.00000000000000
0.00000000000000
-0.00000999999975
-119.96075944998535
36.24949486997474
