0.00001299999985
0.00000000000000
0.00000000000000
-0.00000999999975
-119.96076130998534
36.24949880997474
