0.00001299999985
0.00000000000000
0.00000000000000
-0.00000999999975
-119.96075931998534
36.24950175997474
