0.00001299999985
0.00000000000000
0.00000000000000
-0.00000999999975
-119.29297039998535
35.52635133997474
