0.00001299999985
0.00000000000000
0.00000000000000
-0.00000999999975
-119.29299010998535
35.52627928997474
