0.00001299999985
0.00000000000000
0.00000000000000
-0.00000999999975
-119.29297100000353
35.52629999993108
