0.00001299999985
0.00000000000000
0.00000000000000
-0.00000999999975
-119.29282111000354
35.52635928993108
