0.00001299999985
0.00000000000000
0.00000000000000
-0.00000999999975
-119.94290599998534
36.20462999997474
