0.00001299999985
0.00000000000000
0.00000000000000
-0.00000999999975
-119.94297216998535
36.20468342997474
