0.00001299999985
0.00000000000000
0.00000000000000
-0.00000999999975
-119.94285265998535
36.20463075997474
