0.00001299999985
0.00000000000000
0.00000000000000
-0.00000999999975
-119.94285399998535
36.20462999997474
