0.00001299999985
0.00000000000000
0.00000000000000
-0.00000999999975
-119.94284640998535
36.20463239997473
