0.00001299999985
0.00000000000000
0.00000000000000
-0.00000999999975
-119.94284641000354
36.20463239993108
